BEGIN:VCALENDAR
VERSION:2.0
PRODID:-//Open Circle Center - ECPv5.7.0//NONSGML v1.0//EN
CALSCALE:GREGORIAN
METHOD:PUBLISH
X-WR-CALNAME:Open Circle Center
X-ORIGINAL-URL:https://opencirclecenter.org
X-WR-CALDESC:Events for Open Circle Center
BEGIN:VTIMEZONE
TZID:America/Los_Angeles
BEGIN:DAYLIGHT
TZOFFSETFROM:-0800
TZOFFSETTO:-0700
TZNAME:PDT
DTSTART:20190310T100000
END:DAYLIGHT
BEGIN:STANDARD
TZOFFSETFROM:-0700
TZOFFSETTO:-0800
TZNAME:PST
DTSTART:20191103T090000
END:STANDARD
END:VTIMEZONE
BEGIN:VEVENT
DTSTART;TZID=America/Los_Angeles:20190813T190000
DTEND;TZID=America/Los_Angeles:20190813T204500
DTSTAMP:20260421T165843
CREATED:20190806T174100Z
LAST-MODIFIED:20190806T174100Z
UID:9308-1565722800-1565729100@opencirclecenter.org
SUMMARY:Adam Chacksfield ~ Falling Open Together
DESCRIPTION:Described by Pamela Wilson as “a great messenger of truth [with] a unique transmission that does wonderful things for my spirit\,” Adam invites us to share the direct experience of the heart\, mind\, and life falling open. In this effortless opening\, the suffering involved in resisting feelings and believing our thoughts spontaneously releases. This allows our natural abundance of joy\, peace\, wisdom and love to become apparent and available. Heart-centered but direct\, Adam offers a path straight into the truth of who you are. Adam Chacksfield is the founder of the Center for Nondual Awareness and creator of Falling Open\, a four-month online course transforming how participants experience their lives. \n“We are invited to receive the ultimate gift\, for which there is no substitute \, worth infinitely more than all our dreams and fantasies. We accept this gift by simply falling open. When the heart and mind fall open\, we find ourselves intimately present and completely available to what is here. Our struggle with reality dissolves into harmony.” \nwww.adamchacksfield.com \nSuggested donation: $15 to $25
URL:https://opencirclecenter.org/event/adam-chacksfield-falling-open-14-2-2/
LOCATION:San Rafael\, 1408 Mission Ave\, San Rafael\, CA\, United States
CATEGORIES:Featured
ATTACH;FMTTYPE=image/jpeg:https://opencirclecenter.org/wp-content/uploads/2016/11/Adam-Chacksfield_New-2016_11.jpg
GEO:37.9758462;-122.5321476
X-APPLE-STRUCTURED-LOCATION;VALUE=URI;X-ADDRESS=San Rafael 1408 Mission Ave San Rafael CA United States;X-APPLE-RADIUS=500;X-TITLE=1408 Mission Ave:geo:-122.5321476,37.9758462
END:VEVENT
END:VCALENDAR